BEGIN:VCALENDAR
VERSION:2.0
PRODID:-//Casino de Vic - ECPv6.0.8//NONSGML v1.0//EN
CALSCALE:GREGORIAN
METHOD:PUBLISH
X-WR-CALNAME:Casino de Vic
X-ORIGINAL-URL:https://casinodevic.cat
X-WR-CALDESC:Esdeveniments per Casino de Vic
REFRESH-INTERVAL;VALUE=DURATION:PT1H
X-Robots-Tag:noindex
X-PUBLISHED-TTL:PT1H
BEGIN:VTIMEZONE
TZID:Europe/Paris
BEGIN:DAYLIGHT
TZOFFSETFROM:+0100
TZOFFSETTO:+0200
TZNAME:CEST
DTSTART:20210328T010000
END:DAYLIGHT
BEGIN:STANDARD
TZOFFSETFROM:+0200
TZOFFSETTO:+0100
TZNAME:CET
DTSTART:20211031T010000
END:STANDARD
END:VTIMEZONE
BEGIN:VEVENT
DTSTART;TZID=Europe/Paris:20210324T193000
DTEND;TZID=Europe/Paris:20210324T210000
DTSTAMP:20260420T141944
CREATED:20210411T140253Z
LAST-MODIFIED:20210425T111617Z
UID:1097-1616614200-1616619600@casinodevic.cat
SUMMARY:Presentació del llibre "Picar pedra"
DESCRIPTION:Conversa entre Joan Puigcercós\, Josep Huguet\, Francesc Codina i Àlvar Llobet \n  \nOrganitza: Esquerra Republicana Vic / Llibreria Foster & Wallace / Saldonar
URL:https://casinodevic.cat/event/presentacio-de-picar-pedra/
LOCATION:Carrer de Jacint Verdaguer\, 5\,\, Vic\, Barcelona\, 08500\, Spain
END:VEVENT
END:VCALENDAR