BEGIN:VCALENDAR
VERSION:2.0
PRODID:-//Casino de Vic - ECPv6.0.8//NONSGML v1.0//EN
CALSCALE:GREGORIAN
METHOD:PUBLISH
X-ORIGINAL-URL:https://casinodevic.cat
X-WR-CALDESC:Esdeveniments per Casino de Vic
REFRESH-INTERVAL;VALUE=DURATION:PT1H
X-Robots-Tag:noindex
X-PUBLISHED-TTL:PT1H
BEGIN:VTIMEZONE
TZID:Europe/Paris
BEGIN:DAYLIGHT
TZOFFSETFROM:+0100
TZOFFSETTO:+0200
TZNAME:CEST
DTSTART:20210328T010000
END:DAYLIGHT
BEGIN:STANDARD
TZOFFSETFROM:+0200
TZOFFSETTO:+0100
TZNAME:CET
DTSTART:20211031T010000
END:STANDARD
END:VTIMEZONE
BEGIN:VEVENT
DTSTART;TZID=Europe/Paris:20210318T190000
DTEND;TZID=Europe/Paris:20210318T210000
DTSTAMP:20260421T105332
CREATED:20210314T113353Z
LAST-MODIFIED:20210425T111325Z
UID:887-1616094000-1616101200@casinodevic.cat
SUMMARY:Presentació del llibre "Dona i poder"
DESCRIPTION:L’autora\, Jenn Díaz\, conversarà amb Maria Balasch i Berta Camprubí \n  \nL’aforment és limitat. Entrada obligatòria amb mascareta \n  \nOrganitza: Esquerra Republicana Vic \nCol·labora: Llibreria Foster & Wallace
URL:https://casinodevic.cat/event/presentacio-del-llibre-dona-i-poder/
LOCATION:Casino de Vic\, Carrer de Jacint Verdaguer\, 5\,\, Vic
END:VEVENT
END:VCALENDAR