BEGIN:VCALENDAR
VERSION:2.0
PRODID:-//Casino de Vic - ECPv6.0.8//NONSGML v1.0//EN
CALSCALE:GREGORIAN
METHOD:PUBLISH
X-WR-CALNAME:Casino de Vic
X-ORIGINAL-URL:https://casinodevic.cat
X-WR-CALDESC:Esdeveniments per Casino de Vic
REFRESH-INTERVAL;VALUE=DURATION:PT1H
X-Robots-Tag:noindex
X-PUBLISHED-TTL:PT1H
BEGIN:VTIMEZONE
TZID:Europe/Paris
BEGIN:DAYLIGHT
TZOFFSETFROM:+0100
TZOFFSETTO:+0200
TZNAME:CEST
DTSTART:20250330T010000
END:DAYLIGHT
BEGIN:STANDARD
TZOFFSETFROM:+0200
TZOFFSETTO:+0100
TZNAME:CET
DTSTART:20251026T010000
END:STANDARD
END:VTIMEZONE
BEGIN:VEVENT
DTSTART;TZID=Europe/Paris:20251113T200000
DTEND;TZID=Europe/Paris:20251113T213000
DTSTAMP:20260419T155723
CREATED:20251029T165911Z
LAST-MODIFIED:20251029T165911Z
UID:10302-1763064000-1763069400@casinodevic.cat
SUMMARY:Amb el cap i el cor
DESCRIPTION:Un espectacle de música i poesia sobre l’obra de Segimon Serrallonga \n\n\nA l’entrevista que se li va publicar al primer número de la revista Clot\, el febrer de 1982\, Segimon Serrallonga hi deia que els versos s’han d’entendre i s’han de llegir i escoltar “amb el cap i el cor”. \nÉs amb el cap i amb el cor que hem preparat aquesta sessió sobre la seva poesia. Amb el cap\, des de la lectura dels poemes i els textos\, la seva anàlisi\, la seva comprensió. Amb el cor\, des de l’emoció i des de l’afecte i l’admiració que li tenim\, ja sigui pel tracte personal o per la persona que hem anat descobrint rere els seus poemes\, els seus textos i el testimoni dels qui el van conèixer. \nAmb tot aquest bagatge\, amb el cap i amb el cor us volem oferir un tast del “nostre” Segimon Serrallonga. \nVíctor Sunyol\, Montse Vellvehí i Marc Vernis \nEntrades aquí
URL:https://casinodevic.cat/event/amb-el-cap-i-el-cor/
LOCATION:Casino de Vic\, Carrer de Jacint Verdaguer\, 5\,\, Vic
ATTACH;FMTTYPE=image/png:https://casinodevic.cat/wp-content/uploads/2025/10/chrome_Qylf2dXOPK.png
END:VEVENT
BEGIN:VEVENT
DTSTART;TZID=Europe/Paris:20251122T180000
DTEND;TZID=Europe/Paris:20251122T203000
DTSTAMP:20260419T155723
CREATED:20251029T170447Z
LAST-MODIFIED:20251029T170447Z
UID:10305-1763834400-1763843400@casinodevic.cat
SUMMARY:Dia del soci\, amb l'Orquestra Gerunda
DESCRIPTION:Un dia per a commemorar els socis de l’entitat. Amb l’entrega de les insígnies als socis amb 25 anys i 50 anys d’antiguitat. \nAmb berenar i ball de l’Orquestra Gerunda. A les 18 h a la Sala Modernista.
URL:https://casinodevic.cat/event/dia-del-soci-amb-lorquestra-gerunda/
LOCATION:Casino de Vic\, Carrer de Jacint Verdaguer\, 5\,\, Vic
ATTACH;FMTTYPE=image/jpeg:https://casinodevic.cat/wp-content/uploads/2025/10/Disseny-sense-titol-1.jpg
END:VEVENT
BEGIN:VEVENT
DTSTART;TZID=Europe/Paris:20251123T180000
DTEND;TZID=Europe/Paris:20251123T203000
DTSTAMP:20260419T155723
CREATED:20250724T160723Z
LAST-MODIFIED:20251104T143826Z
UID:10222-1763920800-1763929800@casinodevic.cat
SUMMARY:Spellbound (1945)\, d'Alfred Hitchcock
DESCRIPTION:La doctora Constance Petersen\, una psicoanalista brillant\, sospita que el nou director del sanatori on treballa no és qui diu ser. A mesura que investiga\, descobreix que l’home pateix amnèsia i podria estar implicat en un assassinat. Decidida a ajudar-lo\, s’embarca en un viatge ple d’enigmes\, records reprimits i visions simbòliques. \nAmb Spellbound\, Hitchcock explora els territoris del subconscient a través d’una intriga psicològica carregada de suspens. El film destaca per la seva aposta estètica\, especialment en les seqüències oníriques dissenyades per Salvador Dalí. És una pel·lícula hipnòtica que combina el misteri amb l’experimentació visual\, on la ment esdevé un escenari ple de perills i revelacions. \nEntrada general 5 € | Entrada socis i amics 2 € — Compra-les a taquilla! \nProjecció feta conjuntament amb Cineclub Vic i Els amics dels museus d’Osona
URL:https://casinodevic.cat/event/el-projeccionista-cinema-classic-art-3/
LOCATION:Casino de Vic\, Carrer de Jacint Verdaguer\, 5\,\, Vic
ATTACH;FMTTYPE=image/jpeg:https://casinodevic.cat/wp-content/uploads/2025/07/perversitat.jpg
END:VEVENT
BEGIN:VEVENT
DTSTART;TZID=Europe/Paris:20251125T190000
DTEND;TZID=Europe/Paris:20251125T203000
DTSTAMP:20260419T155723
CREATED:20251029T171325Z
LAST-MODIFIED:20251105T182848Z
UID:10308-1764097200-1764102600@casinodevic.cat
SUMMARY:Ateneu de Vic - Compartir cures compartint llar
DESCRIPTION:Inscriu-te aquí! \nUna taula rodona en què parlarem de diferents formes d’habitatge cooperatiu\, compartit o comunitari\, en els quals no només es comparteix espai\, sinó també cures. Amb testimonis de diferents iniciatives; des d’habitatge cooperatiu a comunitats en masies\, d’una forma distesa i oberta entendrem aquest fenomen amb les seves facilitats i dificultats\, i ens qüestionarem si és la resposta a la crisi d’habitatge i de cures\, o seguirà sent una alternativa minoritària. Com sempre\, al final de l’acte el públic hi podrà participar. \nModera: Jordi Vilarrodà\, cap de secció de cultura del 9NOU \nIntegrants taula rodona: \nJosep Maria Ricart\, Soci fundador del projecte de cohabitatge cooperatiu sènior Walden XXI. \nÀlex Gorina\, crític de cinema i vivint en comunitat. \nAnna Alsina\, Facilitadora de la comunitat sènior de la Casanova d’en Riera i de la comunitat júnior de la Casanova de l’Argila\, totes dues masies situades a Gurb. \nInscriu-te aquí!
URL:https://casinodevic.cat/event/ateneu-de-vic-compartir-cures-compartint-llar/
LOCATION:Casino de Vic\, Carrer de Jacint Verdaguer\, 5\,\, Vic
END:VEVENT
BEGIN:VEVENT
DTSTART;TZID=Europe/Paris:20251127T190000
DTEND;TZID=Europe/Paris:20251127T203000
DTSTAMP:20260419T155723
CREATED:20251104T142753Z
LAST-MODIFIED:20251104T142753Z
UID:10310-1764270000-1764275400@casinodevic.cat
SUMMARY:Presentació del n. 123 de 'Reduccions'\, dedicat a l'obra de Perejaume
DESCRIPTION:Amb la participació de Perejaume\, Francesc Codina\, Jaume Coll\, Maria Sevilla i Jordi Cornudella. \nEntrada lliure
URL:https://casinodevic.cat/event/presentacio-del-n-123-de-reduccions-dedicat-a-lobra-de-perejaume/
LOCATION:Casino de Vic\, Carrer de Jacint Verdaguer\, 5\,\, Vic
ATTACH;FMTTYPE=image/jpeg:https://casinodevic.cat/wp-content/uploads/2025/11/Reduccions-Vic.jpg
END:VEVENT
END:VCALENDAR