BEGIN:VCALENDAR
VERSION:2.0
PRODID:-//Casino de Vic - ECPv6.0.8//NONSGML v1.0//EN
CALSCALE:GREGORIAN
METHOD:PUBLISH
X-WR-CALNAME:Casino de Vic
X-ORIGINAL-URL:https://casinodevic.cat
X-WR-CALDESC:Esdeveniments per Casino de Vic
REFRESH-INTERVAL;VALUE=DURATION:PT1H
X-Robots-Tag:noindex
X-PUBLISHED-TTL:PT1H
BEGIN:VTIMEZONE
TZID:Europe/Paris
BEGIN:DAYLIGHT
TZOFFSETFROM:+0100
TZOFFSETTO:+0200
TZNAME:CEST
DTSTART:20250330T010000
END:DAYLIGHT
BEGIN:STANDARD
TZOFFSETFROM:+0200
TZOFFSETTO:+0100
TZNAME:CET
DTSTART:20251026T010000
END:STANDARD
END:VTIMEZONE
BEGIN:VEVENT
DTSTART;TZID=Europe/Paris:20250903T180000
DTEND;TZID=Europe/Paris:20250903T190000
DTSTAMP:20260419T155542
CREATED:20250731T175714Z
LAST-MODIFIED:20250825T173919Z
UID:10241-1756922400-1756926000@casinodevic.cat
SUMMARY:Escacs al carrer
DESCRIPTION:Escacs per a tots els nivells a la fresca. \nOrganitzat pel Club Escacs Vic i L’Ajuntament de Vic. \nDavant del Casino de Vic. \nEntrada lliure.
URL:https://casinodevic.cat/event/escacs-al-carrer-3/
LOCATION:Casino de Vic\, Carrer de Jacint Verdaguer\, 5\,\, Vic
ATTACH;FMTTYPE=image/jpeg:https://casinodevic.cat/wp-content/uploads/2025/07/Torneig-de-rapides-descacs-Post-de-Instagram-1.jpg
END:VEVENT
BEGIN:VEVENT
DTSTART;TZID=Europe/Paris:20250909T190000
DTEND;TZID=Europe/Paris:20250909T203000
DTSTAMP:20260419T155542
CREATED:20250724T154510Z
LAST-MODIFIED:20250724T154859Z
UID:10214-1757444400-1757449800@casinodevic.cat
SUMMARY:Conferència: "La casa del pensament"\, amb Josep Maria Esquirol
DESCRIPTION:Josep Maria Esquirol és un dels pensadors catalans més influents en l’actualitat. Amb llibres com La resistència íntima (Premi Ciutat de Barcelona i Premi Nacional d’Assaig)\, La penúltima bondat i Humà\, més humà\, destaca per una obra centrada en la reflexió sobre la proximitat\, la cura\, la resistència i l’experiència humana quotidiana. \nActe organitzat per l’Albergueria\, centre cultural del Bisbat de Vic. \nEntrada lliure. Sala Modernista
URL:https://casinodevic.cat/event/conferencia-la-casa-del-pensament-amb-josep-maria-esquirol/
LOCATION:Casino de Vic\, Carrer de Jacint Verdaguer\, 5\,\, Vic
END:VEVENT
BEGIN:VEVENT
DTSTART;TZID=Europe/Paris:20250923T190000
DTEND;TZID=Europe/Paris:20250923T203000
DTSTAMP:20260419T155542
CREATED:20250721T164036Z
LAST-MODIFIED:20250724T155009Z
UID:10206-1758654000-1758659400@casinodevic.cat
SUMMARY:La ment: com convertir-la en una aliada per al teu benestar
DESCRIPTION:Una sessió pràctica i instructiva per fer-nos conscients de la importància de la ment en el nostre benestar\, i com fer que aquesta ens ajudi a estar sans. \nAmb Àlex Bosch\, entrenador de salut i màster en neuropsicologia\, i Iván Sánchez\, psicòleg i doctor en cures integrals i serveis de salut. \nEntrada lliure \nInscriu-te a la sessió
URL:https://casinodevic.cat/event/la-ment-com-convertir-la-en-una-aliada-per-al-teu-benestar/
LOCATION:Casino de Vic\, Carrer de Jacint Verdaguer\, 5\,\, Vic
ATTACH;FMTTYPE=image/jpeg:https://casinodevic.cat/wp-content/uploads/2025/07/1080x1350px-Instagram-scaled.jpg
END:VEVENT
BEGIN:VEVENT
DTSTART;TZID=Europe/Paris:20250925T090000
DTEND;TZID=Europe/Paris:20250925T143000
DTSTAMP:20260419T155542
CREATED:20250909T152521Z
LAST-MODIFIED:20250909T152521Z
UID:10255-1758790800-1758810600@casinodevic.cat
SUMMARY:Sortida a Barcelona - Matí d'Òmnium: Setmana del Llibre en Català
DESCRIPTION:Anada i tornada amb bus a Barcelona per a assistir al matí d’Òmnium de la setmana del Llibre\, amb xerrades i presentacions on hi col·laboren David Fernàndez\, Blanca Llum Vidal o Júlia Ojeda\, entre molts altres escriptors… \nAquí us deixem la programació! \n12 € \nCompreu aquí el vostre tiquet!
URL:https://casinodevic.cat/event/sortida-a-barcelona-mati-domnium-setmana-del-llibre-en-catala/
LOCATION:Estació de busos de Vic\, Carrer del Pare Gallissà\, 4\, Vic
ATTACH;FMTTYPE=image/png:https://casinodevic.cat/wp-content/uploads/2025/09/Bus-Setmana-Proposta-2.png
END:VEVENT
BEGIN:VEVENT
DTSTART;TZID=Europe/Paris:20250925T190000
DTEND;TZID=Europe/Paris:20250925T203000
DTSTAMP:20260419T155542
CREATED:20250917T171008Z
LAST-MODIFIED:20250917T171456Z
UID:10268-1758826800-1758832200@casinodevic.cat
SUMMARY:Fem un got de ciència!
DESCRIPTION:Un acte organitzat per la Universitat de Vic – Universitat Central de Catalunya. \nMés informació aquí
URL:https://casinodevic.cat/event/fem-un-got-de-ciencia-3/
LOCATION:Casino de Vic\, Carrer de Jacint Verdaguer\, 5\,\, Vic
ATTACH;FMTTYPE=image/png:https://casinodevic.cat/wp-content/uploads/2025/09/Invitacio_Fem-un-got-de-ciencia-2025.png
END:VEVENT
BEGIN:VEVENT
DTSTART;TZID=Europe/Paris:20250925T200000
DTEND;TZID=Europe/Paris:20250925T210000
DTSTAMP:20260419T155542
CREATED:20250724T170740Z
LAST-MODIFIED:20250917T172519Z
UID:10235-1758830400-1758834000@casinodevic.cat
SUMMARY:Tertúlies de Poesia: Enric Casasses\, autor de 'la policia irà de bòlit'
DESCRIPTION:També vindrà Tura Sanglas\, la il·lustradora del llibre. \nA les 20 h a la Sala Modernista \nEntrada lliure
URL:https://casinodevic.cat/event/tertulies-de-poesia-enric-casasses/
LOCATION:Casino de Vic\, Carrer de Jacint Verdaguer\, 5\,\, Vic
ATTACH;FMTTYPE=image/jpeg:https://casinodevic.cat/wp-content/uploads/2025/07/TP-enric-casassesmoya.jpg
END:VEVENT
BEGIN:VEVENT
DTSTART;TZID=Europe/Paris:20250928T180000
DTEND;TZID=Europe/Paris:20250928T203000
DTSTAMP:20260419T155542
CREATED:20250724T155456Z
LAST-MODIFIED:20250825T175051Z
UID:10218-1759082400-1759091400@casinodevic.cat
SUMMARY:La bella i la bèstia (La belle et la bête\, 1946)\, de Jean Cocteau
DESCRIPTION:Bella\, una noia jove i generosa\, es veu obligada a anar a viure al misteriós castell d’una bèstia ferotge com a preu per la vida del seu pare. A mesura que conviuen\, Bella descobreix que sota l’aparença monstruosa s’amaga una ànima noble i sensible. El relat\, basat en el conte tradicional\, transita entre el món real i el fantàstic\, en una història d’amor\, sacrifici i transformació. \nCocteau converteix aquesta faula en una obra d’art visual que barreja poesia\, teatre i cinema. Amb efectes especials artesanals i escenografies que semblen sortides d’un somni\, la pel·lícula captura una bellesa gòtica i màgica que ha fascinat generacions. Més que una simple adaptació\, és una experiència sensorial i lírica que eleva el conte a una categoria simbòlica i artística.\n \nEntrada general 5 € | Entrada socis i amics 2 € \nCicle ‘Pintura en blanc i negre’\, fet conjuntament amb Cineclub Vic i Els amics dels museus d’Osona
URL:https://casinodevic.cat/event/el-projeccionista-cinema-classic-art/
LOCATION:Casino de Vic\, Carrer de Jacint Verdaguer\, 5\,\, Vic
ATTACH;FMTTYPE=image/jpeg:https://casinodevic.cat/wp-content/uploads/2025/07/la-bella-i-la-bestia.jpg
END:VEVENT
BEGIN:VEVENT
DTSTART;TZID=Europe/Paris:20250929T190000
DTEND;TZID=Europe/Paris:20250929T203000
DTSTAMP:20260419T155542
CREATED:20250909T155509Z
LAST-MODIFIED:20250917T170522Z
UID:10259-1759172400-1759177800@casinodevic.cat
SUMMARY:El valor de les dones que trenquen els cilces de violència. L'Asha\, un exemple de lluita en contra de la mutilació genital femenina
DESCRIPTION:Amb Anna M. Porté\, autora del conte Valeroses\, Asha Ismail\, supervivent de la mutilació genital femenina i activista\, i Uma Alcaide\, Presidenta i fundadora de l’Associació Far Gàmbia \nEntrada lliure \nInscriu-te a la sessió
URL:https://casinodevic.cat/event/el-valor-de-les-dones-que-trenquen-els-cilces-de-violencia-laisha-un-exemple-de-lluita-en-contra-de-la-mutilacio-genital-femenina/
LOCATION:Casino de Vic\, Carrer de Jacint Verdaguer\, 5\,\, Vic
ATTACH;FMTTYPE=image/jpeg:https://casinodevic.cat/wp-content/uploads/2025/09/1080x1350px-Instagram-scaled.jpg
END:VEVENT
END:VCALENDAR