BEGIN:VCALENDAR
VERSION:2.0
PRODID:-//Casino de Vic - ECPv6.0.8//NONSGML v1.0//EN
CALSCALE:GREGORIAN
METHOD:PUBLISH
X-ORIGINAL-URL:https://casinodevic.cat
X-WR-CALDESC:Esdeveniments per Casino de Vic
REFRESH-INTERVAL;VALUE=DURATION:PT1H
X-Robots-Tag:noindex
X-PUBLISHED-TTL:PT1H
BEGIN:VTIMEZONE
TZID:Europe/Paris
BEGIN:DAYLIGHT
TZOFFSETFROM:+0100
TZOFFSETTO:+0200
TZNAME:CEST
DTSTART:20250330T010000
END:DAYLIGHT
BEGIN:STANDARD
TZOFFSETFROM:+0200
TZOFFSETTO:+0100
TZNAME:CET
DTSTART:20251026T010000
END:STANDARD
END:VTIMEZONE
BEGIN:VEVENT
DTSTART;TZID=Europe/Paris:20250403T190000
DTEND;TZID=Europe/Paris:20250403T220000
DTSTAMP:20260425T150512
CREATED:20250114T191820Z
LAST-MODIFIED:20250319T175431Z
UID:10030-1743706800-1743717600@casinodevic.cat
SUMMARY:Projecció "L'Edat Imminent" (2024): Ateneu de Vic + M(a)crovisor
DESCRIPTION:Projecció de la pel·lícula “L’Edat imminent” (Col·lectiu Vigília\, 2024). Amb cinefòrum posterior amb Laura Corminas Espelt i Laura Serra Solé\, dues membres del Col·lectiu Vigília.
URL:https://casinodevic.cat/event/microvisor-36/
LOCATION:Carrer de Jacint Verdaguer\, 5\,\, Vic\, Barcelona\, 08500\, Spain
ATTACH;FMTTYPE=image/jpeg:https://casinodevic.cat/wp-content/uploads/2025/01/Cartell-lEdat-Imminent_DIGITAL-scaled.jpg
END:VEVENT
BEGIN:VEVENT
DTSTART;TZID=Europe/Paris:20250405T190000
DTEND;TZID=Europe/Paris:20250405T203000
DTSTAMP:20260425T150512
CREATED:20250305T162459Z
LAST-MODIFIED:20250317T175526Z
UID:10102-1743879600-1743885000@casinodevic.cat
SUMMARY:Concert de Maria Castell. Presenta 'Solstici'
DESCRIPTION:Compreu aquí les vostres entrades \nMaria Castell: Veu i guitarra\n\nEnric Vilageliu: Visuals\n\nMaria Castell\, cantautora de Granollers\, visitarà el Casino de Vic amb una proposta immersiva i atrevida. La sala modernista del Casino acollirà l’actuació en directe del disc “Solstici” (2024) amb veu i guitarra\, en un ambient amb un suport visual suggerent\, dirigit per Enric Vilageliu\, que ens transportarà al sentiment de llibertat i vitalitat que encomana el seu últim disc.\nEl nou àlbum Solstici vol reivindicar la necessitat de regenerar el món. Les cançons volen homenatjar a les dones\, i busquen un so rítmic\, per impulsar les lletres amb força. Per preservar els quatre elements d’una Terra\, que dona vida\, i arrela amb llengua i tradició\, la seva música vol colpir però també encoratjar.\nEntrada general: 8 € | Entrada socis: 5 €\nCompreu aquí les vostres entrades
URL:https://casinodevic.cat/event/concert-de-maria-castell-presenta-solstici/
LOCATION:Carrer de Jacint Verdaguer\, 5\,\, Vic\, Barcelona\, 08500\, Spain
ATTACH;FMTTYPE=image/jpeg:https://casinodevic.cat/wp-content/uploads/2025/03/concert-maria-castell-2-min.jpg
END:VEVENT
BEGIN:VEVENT
DTSTART;TZID=Europe/Paris:20250410T190000
DTEND;TZID=Europe/Paris:20250410T203000
DTSTAMP:20260425T150512
CREATED:20250407T145919Z
LAST-MODIFIED:20250407T145919Z
UID:10145-1744311600-1744317000@casinodevic.cat
SUMMARY:Presentació: "Potser no hi va haver mai primavera"\, de Vicenç Lozano
DESCRIPTION:Vicenç Lozano conversant amb Jordi Vilarrodà. A les 19 h a la Sala Modernista. \nNovel·la d’intriga històrica que abraça els anys de la República espanyola\, un període amb tantes esperances com incerteses. Vint anys després dels fets és narrada en primera persona per un periodista inquiet i habitual de la vida nocturna de la ciutat.
URL:https://casinodevic.cat/event/presentacio-potser-no-hi-va-haver-mai-primavera-de-vicenc-lozano/
LOCATION:Carrer de Jacint Verdaguer\, 5\,\, Vic\, Barcelona\, 08500\, Spain
ATTACH;FMTTYPE=image/jpeg:https://casinodevic.cat/wp-content/uploads/2025/04/WhatsApp-Image-2025-04-07-at-10.00.01.jpeg
END:VEVENT
BEGIN:VEVENT
DTSTART;TZID=Europe/Paris:20250411T223000
DTEND;TZID=Europe/Paris:20250411T233000
DTSTAMP:20260425T150512
CREATED:20250319T175838Z
LAST-MODIFIED:20250319T180005Z
UID:10116-1744410600-1744414200@casinodevic.cat
SUMMARY:Xispa de Rams: Serenata del Mercat del Ram
DESCRIPTION:Cantada de cançons tradicionals catalanes.
URL:https://casinodevic.cat/event/xispa-de-rams-serenata-del-mercat-del-ram/
LOCATION:Carrer de Jacint Verdaguer\, 5\,\, Vic\, Barcelona\, 08500\, Spain
ATTACH;FMTTYPE=image/jpeg:https://casinodevic.cat/wp-content/uploads/2025/03/xispa-de-rams-2.jpg
END:VEVENT
BEGIN:VEVENT
DTSTART;TZID=Europe/Paris:20250412T093000
DTEND;TZID=Europe/Paris:20250412T123000
DTSTAMP:20260425T150512
CREATED:20250319T182239Z
LAST-MODIFIED:20250319T182239Z
UID:10123-1744450200-1744461000@casinodevic.cat
SUMMARY:Torneig de Ràpides del Mercat del Ram
DESCRIPTION:Torneig de Ràpides 4|2. Obert a tothom. \nInscripcions a clubescacsvic@gmail.com
URL:https://casinodevic.cat/event/torneig-de-rapides-del-mercat-del-ram/
LOCATION:Carrer de Jacint Verdaguer\, 5\,\, Vic\, Barcelona\, 08500\, Spain
ATTACH;FMTTYPE=image/jpeg:https://casinodevic.cat/wp-content/uploads/2025/03/torneig-de-rapides.jpg
END:VEVENT
BEGIN:VEVENT
DTSTART;TZID=Europe/Paris:20250417T210000
DTEND;TZID=Europe/Paris:20250417T220000
DTSTAMP:20260425T150512
CREATED:20250114T191846Z
LAST-MODIFIED:20250114T191846Z
UID:10029-1744923600-1744927200@casinodevic.cat
SUMMARY:Microvisor
DESCRIPTION:A les 21 h a la Sala Ateneu.
URL:https://casinodevic.cat/event/microvisor-37/
LOCATION:Carrer de Jacint Verdaguer\, 5\,\, Vic\, Barcelona\, 08500\, Spain
ATTACH;FMTTYPE=image/png:https://casinodevic.cat/wp-content/uploads/2024/12/image_12092024115751000000_42944794.png
END:VEVENT
BEGIN:VEVENT
DTSTART;TZID=Europe/Paris:20250423T173000
DTEND;TZID=Europe/Paris:20250423T190000
DTSTAMP:20260425T150512
CREATED:20250319T182844Z
LAST-MODIFIED:20250407T175137Z
UID:10126-1745429400-1745434800@casinodevic.cat
SUMMARY:Sant Jordi: Lectures des el finestral
DESCRIPTION:Per celebrar el Sant Jordi\, des de la Sala Verdaguer llegirem fragments de diverses obres literàries en veu alta. Un màxim de 3 minuts.
URL:https://casinodevic.cat/event/sant-jordi-lectures-de-la-diversitat/
LOCATION:Carrer de Jacint Verdaguer\, 5\,\, Vic\, Barcelona\, 08500\, Spain
END:VEVENT
BEGIN:VEVENT
DTSTART;TZID=Europe/Paris:20250424T200000
DTEND;TZID=Europe/Paris:20250424T210000
DTSTAMP:20260425T150512
CREATED:20250424T141706Z
LAST-MODIFIED:20250424T141706Z
UID:10154-1745524800-1745528400@casinodevic.cat
SUMMARY:Tertúlies de poesia: Emma Piqué
DESCRIPTION:Parlarem amb l’Emma Piqué Buisan del seu llibre  Indòmita-Arqueologia della pintura-Cant vertical (Les Heurèsties edicions). És un recull molt ben editat\, amb il·lustracions de l’autora. \nA les 20 h al Casino de Vic.
URL:https://casinodevic.cat/event/tertulies-de-poesia-emma-pique/
LOCATION:Carrer de Jacint Verdaguer\, 5\,\, Vic\, Barcelona\, 08500\, Spain
ATTACH;FMTTYPE=image/jpeg:https://casinodevic.cat/wp-content/uploads/2025/04/Copia-de-Copia-de-Tertulies-de-poesia-del-Casino-de-Vic-Your-Story-2.jpg
END:VEVENT
BEGIN:VEVENT
DTSTART;TZID=Europe/Paris:20250427T180000
DTEND;TZID=Europe/Paris:20250427T200000
DTSTAMP:20260425T150512
CREATED:20250129T191138Z
LAST-MODIFIED:20250129T191138Z
UID:10053-1745776800-1745784000@casinodevic.cat
SUMMARY:El Projeccionista: 'Laura' (1944\, Otto Preminger)
DESCRIPTION:A les 18 h a la Sala Modernista. \n5 € entrada general | 2 € socis Casino i Cineclub
URL:https://casinodevic.cat/event/el-projeccionista-laura-1944-otto-preminger/
LOCATION:Carrer de Jacint Verdaguer\, 5\,\, Vic\, Barcelona\, 08500\, Spain
END:VEVENT
BEGIN:VEVENT
DTSTART;TZID=Europe/Paris:20250429T190000
DTEND;TZID=Europe/Paris:20250429T203000
DTSTAMP:20260425T150512
CREATED:20250319T183936Z
LAST-MODIFIED:20250319T184027Z
UID:10128-1745953200-1745958600@casinodevic.cat
SUMMARY:El poder terapèutic de l'art i les humanitats - Ateneu de Vic
DESCRIPTION:Dimarts 29 d’abril. A les 19 h a la Sala Modernista. \nPonència de Salvador Simó acompanyada de l’actuació de Noemí Morral i Montse Morral.
URL:https://casinodevic.cat/event/el-poder-terapeutic-de-lart-i-les-humanitats-ateneu-de-vic/
LOCATION:Carrer de Jacint Verdaguer\, 5\,\, Vic\, Barcelona\, 08500\, Spain
END:VEVENT
BEGIN:VEVENT
DTSTART;TZID=Europe/Paris:20250430T190000
DTEND;TZID=Europe/Paris:20250430T203000
DTSTAMP:20260425T150512
CREATED:20250319T184254Z
LAST-MODIFIED:20250319T184254Z
UID:10130-1746039600-1746045000@casinodevic.cat
SUMMARY:Audició EMVIC
DESCRIPTION:Acollim l’audició dels alumnes de l’Escola de Música de Vic. \nDimecres 30 d’abril. A les 20 h a la Sala Modernista.
URL:https://casinodevic.cat/event/audicio-emvic/
LOCATION:Carrer de Jacint Verdaguer\, 5\,\, Vic\, Barcelona\, 08500\, Spain
END:VEVENT
BEGIN:VEVENT
DTSTART;TZID=Europe/Paris:20250508T190000
DTEND;TZID=Europe/Paris:20250508T203000
DTSTAMP:20260425T150512
CREATED:20250319T185229Z
LAST-MODIFIED:20250319T185229Z
UID:10132-1746730800-1746736200@casinodevic.cat
SUMMARY:Presentació: "No hi ha paraules"\, de Francesc Torralba
DESCRIPTION:Francesc Torralba presenta el seu últim llibre sobre com superar la mort d’un fill\, després de la seva tràgica experiència. \nA les 19 h a la Sala Modernista.
URL:https://casinodevic.cat/event/presentacio-no-hi-ha-paraules-de-francesc-torralba/
LOCATION:Carrer de Jacint Verdaguer\, 5\,\, Vic\, Barcelona\, 08500\, Spain
END:VEVENT
BEGIN:VEVENT
DTSTART;TZID=Europe/Paris:20250508T210000
DTEND;TZID=Europe/Paris:20250508T220000
DTSTAMP:20260425T150512
CREATED:20250114T191907Z
LAST-MODIFIED:20250114T191907Z
UID:10028-1746738000-1746741600@casinodevic.cat
SUMMARY:Microvisor
DESCRIPTION:A les 21 h a la Sala Ateneu.
URL:https://casinodevic.cat/event/microvisor-38/
LOCATION:Carrer de Jacint Verdaguer\, 5\,\, Vic\, Barcelona\, 08500\, Spain
ATTACH;FMTTYPE=image/png:https://casinodevic.cat/wp-content/uploads/2024/12/image_12092024115751000000_42944794.png
END:VEVENT
BEGIN:VEVENT
DTSTART;TZID=Europe/Paris:20250515T200000
DTEND;TZID=Europe/Paris:20250515T213000
DTSTAMP:20260425T150512
CREATED:20250319T190018Z
LAST-MODIFIED:20250327T143449Z
UID:10134-1747339200-1747344600@casinodevic.cat
SUMMARY:Micro Obert - Carn del Perol
DESCRIPTION:El primer Micro Obert de la plana de Vic\, amb Godai Garcia com a amfitrió. \nDijous 15 de maig. A les 20 h a la Sala Modernista.
URL:https://casinodevic.cat/event/micro-obert/
LOCATION:Carrer de Jacint Verdaguer\, 5\,\, Vic\, Barcelona\, 08500\, Spain
END:VEVENT
BEGIN:VEVENT
DTSTART;TZID=Europe/Paris:20250518T190000
DTEND;TZID=Europe/Paris:20250518T203000
DTSTAMP:20260425T150512
CREATED:20250319T190842Z
LAST-MODIFIED:20251104T160329Z
UID:10108-1747594800-1747600200@casinodevic.cat
SUMMARY:Concert de clàssica: Paula Rocosa\, pianista
DESCRIPTION:Paula Rocosa (1999) és una pianista catalana graduada amb Matrícula d’Honor a l’ESMuC sota la direcció de Vladislav Bronevetzky. Actualment\, cursa un màster d’interpretació a la Hochschule für Musik und Theater de Leipzig amb el Prof. Christian Pohl\, becada per la fundació Beate Graefe. Com a solista i músic de cambra\, combina repertoris clàssics i contemporanis amb la literatura i ha actuat en sales com el Palau de la Música i L’Auditori. Ha treballat amb Kennedy Moretti\, el Quartet Casals i Josep Colom\, i la seva experiència en dansa enriqueix els seus projectes. \nCompra aquí les teves entrades \nPrograma:\nDomenico Scarlatti (1685-1757)\nSonata en Do menor\, K 56\nClaude Debussy (1862-1918)\nPréludes L. 123:\nI. Brouillards\nII. Feuilles mortes\nVI. “General Lavine” – eccentric\nVII. La terrasse des audiences du clair de lune\nIV. “Les fées sont d’exquises danseuses”\nIII. La puerta del vino\nXII. Feux d’artifice\nMarc Migó (*1993)\nL’illa deserta (Preludes for Piano\, book 1):\nVI. Recuerdos del Casar\nIV. Evocació\nSergei Prokofiev (1891-1953)\nSonata n. 5\, op. 135\nI. Allegro tranquillo\nII. Andantino\nIII. Un poco allegretto
URL:https://casinodevic.cat/event/concert-de-classica-paula-rocosa-pianista/
LOCATION:Carrer de Jacint Verdaguer\, 5\,\, Vic\, Barcelona\, 08500\, Spain
ATTACH;FMTTYPE=image/jpeg:https://casinodevic.cat/wp-content/uploads/2025/03/concert-paula-rocosa-2.jpg
END:VEVENT
BEGIN:VEVENT
DTSTART;TZID=Europe/Paris:20250522T200000
DTEND;TZID=Europe/Paris:20250522T210000
DTSTAMP:20260425T150512
CREATED:20250319T191907Z
LAST-MODIFIED:20250319T191907Z
UID:10137-1747944000-1747947600@casinodevic.cat
SUMMARY:Teixit\, de Mariona Fontserè
DESCRIPTION:Una actuació que combina poesia i música\, recital i autotune. \nA les 20 h a la Sala Modernista
URL:https://casinodevic.cat/event/teixit-de-mariona-fontsere/
LOCATION:Carrer de Jacint Verdaguer\, 5\,\, Vic\, Barcelona\, 08500\, Spain
END:VEVENT
BEGIN:VEVENT
DTSTART;TZID=Europe/Paris:20250522T210000
DTEND;TZID=Europe/Paris:20250522T220000
DTSTAMP:20260425T150512
CREATED:20250114T191930Z
LAST-MODIFIED:20250114T191930Z
UID:10027-1747947600-1747951200@casinodevic.cat
SUMMARY:Microvisor
DESCRIPTION:A les 21 h a la Sala Ateneu.
URL:https://casinodevic.cat/event/microvisor-39/
LOCATION:Carrer de Jacint Verdaguer\, 5\,\, Vic\, Barcelona\, 08500\, Spain
ATTACH;FMTTYPE=image/png:https://casinodevic.cat/wp-content/uploads/2024/12/image_12092024115751000000_42944794.png
END:VEVENT
BEGIN:VEVENT
DTSTART;TZID=Europe/Paris:20250525T180000
DTEND;TZID=Europe/Paris:20250525T200000
DTSTAMP:20260425T150512
CREATED:20250129T191338Z
LAST-MODIFIED:20250129T191338Z
UID:10055-1748196000-1748203200@casinodevic.cat
SUMMARY:El Projeccionista: 'Lola' (1961\, Jacques Demy)
DESCRIPTION:A les 18 h a la Sala Modernista. \n5 € entrada general | 2 € socis Casino i Cineclub
URL:https://casinodevic.cat/event/el-projeccionista-lola-1961-jacques-demy/
LOCATION:Carrer de Jacint Verdaguer\, 5\,\, Vic\, Barcelona\, 08500\, Spain
END:VEVENT
BEGIN:VEVENT
DTSTART;TZID=Europe/Paris:20250526T190000
DTEND;TZID=Europe/Paris:20250526T203000
DTSTAMP:20260425T150512
CREATED:20250521T152529Z
LAST-MODIFIED:20250521T152732Z
UID:10171-1748286000-1748291400@casinodevic.cat
SUMMARY:La filosofia de la cura: diferents perspectives sobre cuidar-nos i cuidar els altres - Ateneu de Vic
DESCRIPTION:Dilluns 26 de maig. A les 19 h a la Sala Modernista. \nConversa entre Joan Burdeus\, filòsof i periodista cultural\, i Begonya Sàez i Tajafuerce\, filòsofa i professora de la Universitat Autònoma de Barcelona.
URL:https://casinodevic.cat/event/el-poder-terapeutic-de-lart-i-les-humanitats-ateneu-de-vic-2/
LOCATION:Carrer de Jacint Verdaguer\, 5\,\, Vic\, Barcelona\, 08500\, Spain
ATTACH;FMTTYPE=image/jpeg:https://casinodevic.cat/wp-content/uploads/2025/05/1080x1080px-Instagram_26-MAIG.jpg
END:VEVENT
BEGIN:VEVENT
DTSTART;TZID=Europe/Paris:20250528T190000
DTEND;TZID=Europe/Paris:20250528T203000
DTSTAMP:20260425T150512
CREATED:20250327T143838Z
LAST-MODIFIED:20250521T155422Z
UID:10141-1748458800-1748464200@casinodevic.cat
SUMMARY:Presentació: "El dibuixant d'indianes"\, d'Imma Cortina
DESCRIPTION:A les 19 h a la Sala Modernista.
URL:https://casinodevic.cat/event/presentacio-el-dibuixant-dindianes-dimma-cortina/
LOCATION:Carrer de Jacint Verdaguer\, 5\,\, Vic\, Barcelona\, 08500\, Spain
ATTACH;FMTTYPE=image/jpeg:https://casinodevic.cat/wp-content/uploads/2025/03/cartell_El-dibuixant-dindianes_Vic_28-5-25_LAlbi-scaled.jpg
END:VEVENT
BEGIN:VEVENT
DTSTART;TZID=Europe/Paris:20250530T200000
DTEND;TZID=Europe/Paris:20250530T220000
DTSTAMP:20260425T150512
CREATED:20250508T185443Z
LAST-MODIFIED:20250508T185443Z
UID:10162-1748635200-1748642400@casinodevic.cat
SUMMARY:La tarda amb Quim Comerma: Ràdio en directe
DESCRIPTION:Ràdio en directe amb Quim Comerma. Amb tast de productes de proximitat inclòs. \nEl preu d’entrada i inclou una copa de vi natural i ecològic Català + el tast de tots els aliments com pa del Pastador\, pastís sense gluten\, begudes vegetals de liquats vegetals de Viladrau\, patates de Sant Tomàs\, infusions de Sambucus\, tast d’oli de tòfona de conserves Coll de Castellterçol i tast de la cervesa BdeGust. \nA les 20 h a la Sala Modernista \n6 € entrada general. Compra aquí la teva entrada.
URL:https://casinodevic.cat/event/la-tarda-amb-quim-comerma-radio-en-directe/
LOCATION:Carrer de Jacint Verdaguer\, 5\,\, Vic\, Barcelona\, 08500\, Spain
ATTACH;FMTTYPE=image/jpeg:https://casinodevic.cat/wp-content/uploads/2025/05/WhatsApp-Image-2025-05-08-at-18.39.07.jpeg
END:VEVENT
BEGIN:VEVENT
DTSTART;TZID=Europe/Paris:20250605T210000
DTEND;TZID=Europe/Paris:20250605T220000
DTSTAMP:20260425T150512
CREATED:20250114T191956Z
LAST-MODIFIED:20250114T191956Z
UID:10038-1749157200-1749160800@casinodevic.cat
SUMMARY:Microvisor
DESCRIPTION:A les 21 h a la Sala Ateneu.
URL:https://casinodevic.cat/event/microvisor-40/
LOCATION:Carrer de Jacint Verdaguer\, 5\,\, Vic\, Barcelona\, 08500\, Spain
ATTACH;FMTTYPE=image/png:https://casinodevic.cat/wp-content/uploads/2024/12/image_12092024115751000000_42944794.png
END:VEVENT
BEGIN:VEVENT
DTSTART;TZID=Europe/Paris:20250607T190000
DTEND;TZID=Europe/Paris:20250607T203000
DTSTAMP:20260425T150512
CREATED:20250512T154627Z
LAST-MODIFIED:20250512T155504Z
UID:10165-1749322800-1749328200@casinodevic.cat
SUMMARY:Presentació de la Schubertíada i tastet de cançons
DESCRIPTION:Presentació de la 33a edició de la Schubertíada pel director del festival\, Víctor Medem\, que inclourà un tast de cançons poètiques a càrrec de la mezzosoprano Jana Corominas i el pianista Joan Espuny. \nEntrada lliure.
URL:https://casinodevic.cat/event/presentacio-de-la-schubertiada-i-tastet-de-cancons/
LOCATION:Carrer de Jacint Verdaguer\, 5\,\, Vic\, Barcelona\, 08500\, Spain
ATTACH;FMTTYPE=image/jpeg:https://casinodevic.cat/wp-content/uploads/2025/05/Presentacio-de-la-Schubertiada-i-tastet-de-cancons.jpg
END:VEVENT
BEGIN:VEVENT
DTSTART;TZID=Europe/Paris:20250610T190000
DTEND;TZID=Europe/Paris:20250610T203000
DTSTAMP:20260425T150512
CREATED:20250724T154124Z
LAST-MODIFIED:20250724T154124Z
UID:10210-1749582000-1749587400@casinodevic.cat
SUMMARY:Presentació de 'Justícia Poètica'\, d'Ivette Nadal
DESCRIPTION:Ivette Nadal conversa amb Víctor Sunyol. \nEntrada lliure.
URL:https://casinodevic.cat/event/presentacio-de-justicia-poetica-divette-nadal/
LOCATION:Carrer de Jacint Verdaguer\, 5\,\, Vic\, Barcelona\, 08500\, Spain
ATTACH;FMTTYPE=image/jpeg:https://casinodevic.cat/wp-content/uploads/2025/07/10.06.2025.-JUSTICIA-POETICA.-IVETTE-NADAL.-VIC.jpg
END:VEVENT
BEGIN:VEVENT
DTSTART;TZID=Europe/Paris:20250613T190000
DTEND;TZID=Europe/Paris:20250613T203000
DTSTAMP:20260425T150512
CREATED:20250611T145014Z
LAST-MODIFIED:20250611T145014Z
UID:10182-1749841200-1749846600@casinodevic.cat
SUMMARY:Inauguració Exposició: 'Estrats'\, de Margalef
DESCRIPTION:A les 19 h a la Sala d’Exposicions. \nMargalef és un artista català que viu i treballa a Barcelona. \nInspirat pel grafisme de l’espai públic i l’interès pels contextos urbans\, la seva trajectòria artística experimenta l’arquitectura sota un enfocament material i efímer\, explorant els límits més enllà dels dos camps. \nLa línia de treball incorpora una marcada influència del camp del disseny que es fa evident tant en la definició de les composicions com en la deferència per treballar amb materials de naturalesa industrial. Basant-se en la seva línia de recerca\, les seves obres es presenten en forma de sèries\, instal·lacions o intervencions a l’espai públic\, construint noves cartografies per interactuar amb les persones i l’entorn. \nHa estat seleccionat per participar en diversos esdeveniments artístics\, tots caracteritzats per intervencions artístiques a l’espai urbà\, així com en altres esdeveniments nacionals i internacionals. \nMés informació a la seva web: http://www.margalef.co/
URL:https://casinodevic.cat/event/inauguracio-exposicio-estrats-de-margalef/
LOCATION:Carrer de Jacint Verdaguer\, 5\,\, Vic\, Barcelona\, 08500\, Spain
ATTACH;FMTTYPE=image/png:https://casinodevic.cat/wp-content/uploads/2025/06/AcroRd32_4gIGtlaYa3.png
END:VEVENT
BEGIN:VEVENT
DTSTART;TZID=Europe/Paris:20250614T190000
DTEND;TZID=Europe/Paris:20250614T203000
DTSTAMP:20260425T150512
CREATED:20250611T150124Z
LAST-MODIFIED:20250724T153802Z
UID:10185-1749927600-1749933000@casinodevic.cat
SUMMARY:Presentació de 'Cartes d'amor'\, de Virginia Woolf i Vita Sackville-West
DESCRIPTION:Amb Mireia Vidal-Conte\, traductora del llibre\, i la cantautora Paula Valls. \nEntrada lliure.
URL:https://casinodevic.cat/event/presentacio-de-cartes-damor-de-virginia-woolf-i-vita-sackville-west/
LOCATION:Carrer de Jacint Verdaguer\, 5\,\, Vic\, Barcelona\, 08500\, Spain
ATTACH;FMTTYPE=image/jpeg:https://casinodevic.cat/wp-content/uploads/2025/06/image_123650291.jpg
END:VEVENT
BEGIN:VEVENT
DTSTART;TZID=Europe/Paris:20250616T190000
DTEND;TZID=Europe/Paris:20250616T203000
DTSTAMP:20260425T150512
CREATED:20250611T150608Z
LAST-MODIFIED:20250611T150924Z
UID:10188-1750100400-1750105800@casinodevic.cat
SUMMARY:Aturar-nos per ser actius. Com incorporar breus temps d’activitat física a les nostres vides
DESCRIPTION:Una xerrada pràctica sobre com mantenir-nos sans i actius dins la nostra vida diària predominantment sedentària. \nAmb Anna Puig-Ribera i Marta Solà\, membres del Grup de recerca en Esport i Activitat Física (GREAF) de la UVic-UCC. Moderat pel Col·legi de Periodistes de Catalunya. \nInscripcions aquí
URL:https://casinodevic.cat/event/aturar-nos-per-ser-actius-com-incorporar-breus-temps-dactivitat-fisica-a-les-nostres-vides/
LOCATION:Carrer de Jacint Verdaguer\, 5\,\, Vic\, Barcelona\, 08500\, Spain
ATTACH;FMTTYPE=image/jpeg:https://casinodevic.cat/wp-content/uploads/2025/06/1080x1350px-Instagram.jpg
END:VEVENT
BEGIN:VEVENT
DTSTART;TZID=Europe/Paris:20250621T200000
DTEND;TZID=Europe/Paris:20250621T213000
DTSTAMP:20260425T150512
CREATED:20250129T192314Z
LAST-MODIFIED:20251104T160533Z
UID:10057-1750536000-1750541400@casinodevic.cat
SUMMARY:Concert de violí i piano: Inés Issel Burzyńska & Alan Branch
DESCRIPTION:La violinista Inés Issel Burzyńska\, guanyadora del premi ImpulsACIMC 2024\, i el pianista Alan Branch ens ofereixen un concert amb obres de Clara Schumann\, Amy Beach\, Joan Manén\, Gershwin\, Massenet i d’altres. Un repertori ple de matisos\, emocions i virtuosisme per gaudir de la música clàssica en un format íntim i de proximitat. \nCompra les entrades aquí\nPrograma: \n\n\nGrażyna Bacewicz – Oberek núm. 1 \n\n\nClara Schumann – Tres Romances \n\n\nJoan Manén – Danza Ibérica núm. 2 \n\n\nAmy Beach – Romance\, op. 23 \n\n\nGeorge Gershwin – Porgy and Bess \n\n\nJules Massenet – Méditation (de Thaïs) \n\n\nJenő Hubay – Carmen \n\n\nCompra les entrades aquí
URL:https://casinodevic.cat/event/concert-de-musica-classica-dines-issel-burzynska-violinista/
LOCATION:Carrer de Jacint Verdaguer\, 5\,\, Vic\, Barcelona\, 08500\, Spain
ATTACH;FMTTYPE=image/jpeg:https://casinodevic.cat/wp-content/uploads/2025/01/concert-paula-rocosa.jpg
END:VEVENT
BEGIN:VEVENT
DTSTART;TZID=Europe/Paris:20250626T200000
DTEND;TZID=Europe/Paris:20250626T210000
DTSTAMP:20260425T150512
CREATED:20250611T153714Z
LAST-MODIFIED:20250611T153714Z
UID:10198-1750968000-1750971600@casinodevic.cat
SUMMARY:Tertúlies de poesia: Núria Martínez-Vernis\, autora de 'Deix on dir'
DESCRIPTION:Parlarem amb Núria Martínez-Vernis del seu llibre Deix on dir\, que són quatre camins de com salvar-se; de què i de qui. \nA les 20 h al Casino de Vic.
URL:https://casinodevic.cat/event/tertulies-de-poesia-nuria-martinez-vernis-autora-de-deix-on-dir/
LOCATION:Carrer de Jacint Verdaguer\, 5\,\, Vic\, Barcelona\, 08500\, Spain
ATTACH;FMTTYPE=image/jpeg:https://casinodevic.cat/wp-content/uploads/2025/06/TP-sonia-moya-4.jpg
END:VEVENT
BEGIN:VEVENT
DTSTART;TZID=Europe/Paris:20250627T190000
DTEND;TZID=Europe/Paris:20250627T223000
DTSTAMP:20260425T150512
CREATED:20250611T151804Z
LAST-MODIFIED:20250619T140811Z
UID:10191-1751050800-1751063400@casinodevic.cat
SUMMARY:'Teatre de cabaret'\, de Karl Valentin. Escènic Vic
DESCRIPTION:Obra de teatre dels alumnes d’Escènic Vic. \nDues sessions: \n\n19 h\n21 h\n\nEntrades: 3 € a taquilla
URL:https://casinodevic.cat/event/teatre-de-cabaret-de-karl-valentin-escenic-vic/
LOCATION:Casino de Vic\, Carrer de Jacint Verdaguer\, 5\,\, Vic
ATTACH;FMTTYPE=image/jpeg:https://casinodevic.cat/wp-content/uploads/2025/06/NiCabaretNiCastelldeFocs-min-1.jpg
END:VEVENT
END:VCALENDAR