BEGIN:VCALENDAR
VERSION:2.0
PRODID:-//Casino de Vic - ECPv6.0.8//NONSGML v1.0//EN
CALSCALE:GREGORIAN
METHOD:PUBLISH
X-WR-CALNAME:Casino de Vic
X-ORIGINAL-URL:https://casinodevic.cat
X-WR-CALDESC:Esdeveniments per Casino de Vic
REFRESH-INTERVAL;VALUE=DURATION:PT1H
X-Robots-Tag:noindex
X-PUBLISHED-TTL:PT1H
BEGIN:VTIMEZONE
TZID:Europe/Paris
BEGIN:DAYLIGHT
TZOFFSETFROM:+0100
TZOFFSETTO:+0200
TZNAME:CEST
DTSTART:20260329T010000
END:DAYLIGHT
BEGIN:STANDARD
TZOFFSETFROM:+0200
TZOFFSETTO:+0100
TZNAME:CET
DTSTART:20261025T010000
END:STANDARD
END:VTIMEZONE
BEGIN:VEVENT
DTSTART;TZID=Europe/Paris:20260426T180000
DTEND;TZID=Europe/Paris:20260426T193000
DTSTAMP:20260426T023050
CREATED:20260409T135455Z
LAST-MODIFIED:20260409T135455Z
UID:10554-1777226400-1777231800@casinodevic.cat
SUMMARY:El ganivet a l'aigua (Nóz w wodzie\, 1962) Roman Polanski
DESCRIPTION:L’Andrzej\, un periodista d’èxit\, i la seva jove parella Krystyna passen un cap de setmana navegant pels llacs de Masuria. Pel camí conviden un jove desconegut a unir-se a l’excursió\, fet que desencadena tensions constants entre l’Andrzej i el nouvingut\, un rebel que sempre porta un ganivet. Tots dos competeixen per impressionar la Krystyna\, però cap no aconsegueix imposar-se clarament. \nPel·lícula de la primera etapa de Roman Polanski\, l’última de producció polonesa de la seva filmografia\, i que el va catapultar al món global. Amb pocs actors\, un intrús misteriós\, un llarg riu i el despertar de la testosterona\, va ser capaç d’hipnotitzar un bon seguici d’espectadors\, una mica com ho ha fet Jaume Claret amb Estrany Riu. \nEntrada general 5 € | Entrada socis 2 €
URL:https://casinodevic.cat/event/el-ganivet-a-laigua-noz-w-wodzie-1962-roman-polanski/
LOCATION:Casino de Vic\, Carrer de Jacint Verdaguer\, 5\,\, Vic
ATTACH;FMTTYPE=image/jpeg:https://casinodevic.cat/wp-content/uploads/2026/04/ganivet-a-laiguadell.arte_.jpg
END:VEVENT
END:VCALENDAR