BEGIN:VCALENDAR
VERSION:2.0
PRODID:-//Casino de Vic - ECPv6.0.8//NONSGML v1.0//EN
CALSCALE:GREGORIAN
METHOD:PUBLISH
X-WR-CALNAME:Casino de Vic
X-ORIGINAL-URL:https://casinodevic.cat
X-WR-CALDESC:Esdeveniments per Casino de Vic
REFRESH-INTERVAL;VALUE=DURATION:PT1H
X-Robots-Tag:noindex
X-PUBLISHED-TTL:PT1H
BEGIN:VTIMEZONE
TZID:Europe/Paris
BEGIN:DAYLIGHT
TZOFFSETFROM:+0100
TZOFFSETTO:+0200
TZNAME:CEST
DTSTART:20260329T010000
END:DAYLIGHT
BEGIN:STANDARD
TZOFFSETFROM:+0200
TZOFFSETTO:+0100
TZNAME:CET
DTSTART:20261025T010000
END:STANDARD
END:VTIMEZONE
BEGIN:VEVENT
DTSTART;TZID=Europe/Paris:20260129T190000
DTEND;TZID=Europe/Paris:20260129T203000
DTSTAMP:20260419T154035
CREATED:20251224T171604Z
LAST-MODIFIED:20260121T165145Z
UID:10362-1769713200-1769718600@casinodevic.cat
SUMMARY:Tertúlia de poesia\, Arthur Rimbaud\, amb Jaume Galmés
DESCRIPTION:Parlarem d’ARTHUR RIMBAUD amb JAUME GALMÉS\, que ha traduït TOTS ELS VERSOS (Edicions de 1984). \nTots els versos aplega la poesia escrita per Arthur Rimbaud al llarg de la seva carrera literària\, que durà a penes sis anys. Ens trobem davant un cas insòlit en la història de la literatura\, el d’un poeta-cometa el ròssec del qual no para d’incendiar el firmament de les lletres amb la magnitud i l’eternitat d’una constel·lació.
URL:https://casinodevic.cat/event/tertulia-de-poesia-2/
LOCATION:Casino de Vic\, Carrer de Jacint Verdaguer\, 5\,\, Vic
ATTACH;FMTTYPE=image/jpeg:https://casinodevic.cat/wp-content/uploads/2025/12/TP-jaume-galmes.jpg
END:VEVENT
END:VCALENDAR