BEGIN:VCALENDAR
VERSION:2.0
PRODID:-//Casino de Vic - ECPv6.0.8//NONSGML v1.0//EN
CALSCALE:GREGORIAN
METHOD:PUBLISH
X-ORIGINAL-URL:https://casinodevic.cat
X-WR-CALDESC:Esdeveniments per Casino de Vic
REFRESH-INTERVAL;VALUE=DURATION:PT1H
X-Robots-Tag:noindex
X-PUBLISHED-TTL:PT1H
BEGIN:VTIMEZONE
TZID:Europe/Paris
BEGIN:DAYLIGHT
TZOFFSETFROM:+0100
TZOFFSETTO:+0200
TZNAME:CEST
DTSTART:20250330T010000
END:DAYLIGHT
BEGIN:STANDARD
TZOFFSETFROM:+0200
TZOFFSETTO:+0100
TZNAME:CET
DTSTART:20251026T010000
END:STANDARD
END:VTIMEZONE
BEGIN:VEVENT
DTSTART;TZID=Europe/Paris:20251018T180000
DTEND;TZID=Europe/Paris:20251018T193000
DTSTAMP:20260421T105920
CREATED:20250926T151509Z
LAST-MODIFIED:20250926T151509Z
UID:10280-1760810400-1760815800@casinodevic.cat
SUMMARY:'Ferida perversa'\, de Maria Torras\, amb Sílvia Catalán
DESCRIPTION:Lectura dramatitzada amb 8 actors i piano amb directe. Amb col·loqui posterior amb Sílvia Catalán. \nInscriu-te aquí.
URL:https://casinodevic.cat/event/ferida-perversa-de-maria-torras-amb-silvia-catalan/
LOCATION:Casino de Vic\, Carrer de Jacint Verdaguer\, 5\,\, Vic
ATTACH;FMTTYPE=image/jpeg:https://casinodevic.cat/wp-content/uploads/2025/09/bf6ce788-a407-459f-90ec-d7a2ac14ff00.jpeg
END:VEVENT
END:VCALENDAR