BEGIN:VCALENDAR
VERSION:2.0
PRODID:-//Casino de Vic - ECPv6.0.8//NONSGML v1.0//EN
CALSCALE:GREGORIAN
METHOD:PUBLISH
X-WR-CALNAME:Casino de Vic
X-ORIGINAL-URL:https://casinodevic.cat
X-WR-CALDESC:Esdeveniments per Casino de Vic
REFRESH-INTERVAL;VALUE=DURATION:PT1H
X-Robots-Tag:noindex
X-PUBLISHED-TTL:PT1H
BEGIN:VTIMEZONE
TZID:Europe/Paris
BEGIN:DAYLIGHT
TZOFFSETFROM:+0100
TZOFFSETTO:+0200
TZNAME:CEST
DTSTART:20250330T010000
END:DAYLIGHT
BEGIN:STANDARD
TZOFFSETFROM:+0200
TZOFFSETTO:+0100
TZNAME:CET
DTSTART:20251026T010000
END:STANDARD
END:VTIMEZONE
BEGIN:VEVENT
DTSTART;TZID=Europe/Paris:20250928T180000
DTEND;TZID=Europe/Paris:20250928T203000
DTSTAMP:20260423T143917
CREATED:20250724T155456Z
LAST-MODIFIED:20250825T175051Z
UID:10218-1759082400-1759091400@casinodevic.cat
SUMMARY:La bella i la bèstia (La belle et la bête\, 1946)\, de Jean Cocteau
DESCRIPTION:Bella\, una noia jove i generosa\, es veu obligada a anar a viure al misteriós castell d’una bèstia ferotge com a preu per la vida del seu pare. A mesura que conviuen\, Bella descobreix que sota l’aparença monstruosa s’amaga una ànima noble i sensible. El relat\, basat en el conte tradicional\, transita entre el món real i el fantàstic\, en una història d’amor\, sacrifici i transformació. \nCocteau converteix aquesta faula en una obra d’art visual que barreja poesia\, teatre i cinema. Amb efectes especials artesanals i escenografies que semblen sortides d’un somni\, la pel·lícula captura una bellesa gòtica i màgica que ha fascinat generacions. Més que una simple adaptació\, és una experiència sensorial i lírica que eleva el conte a una categoria simbòlica i artística.\n \nEntrada general 5 € | Entrada socis i amics 2 € \nCicle ‘Pintura en blanc i negre’\, fet conjuntament amb Cineclub Vic i Els amics dels museus d’Osona
URL:https://casinodevic.cat/event/el-projeccionista-cinema-classic-art/
LOCATION:Casino de Vic\, Carrer de Jacint Verdaguer\, 5\,\, Vic
ATTACH;FMTTYPE=image/jpeg:https://casinodevic.cat/wp-content/uploads/2025/07/la-bella-i-la-bestia.jpg
END:VEVENT
END:VCALENDAR