BEGIN:VCALENDAR
VERSION:2.0
PRODID:-//Casino de Vic - ECPv6.0.8//NONSGML v1.0//EN
CALSCALE:GREGORIAN
METHOD:PUBLISH
X-WR-CALNAME:Casino de Vic
X-ORIGINAL-URL:https://casinodevic.cat
X-WR-CALDESC:Esdeveniments per Casino de Vic
REFRESH-INTERVAL;VALUE=DURATION:PT1H
X-Robots-Tag:noindex
X-PUBLISHED-TTL:PT1H
BEGIN:VTIMEZONE
TZID:Europe/Paris
BEGIN:DAYLIGHT
TZOFFSETFROM:+0100
TZOFFSETTO:+0200
TZNAME:CEST
DTSTART:20250330T010000
END:DAYLIGHT
BEGIN:STANDARD
TZOFFSETFROM:+0200
TZOFFSETTO:+0100
TZNAME:CET
DTSTART:20251026T010000
END:STANDARD
END:VTIMEZONE
BEGIN:VEVENT
DTSTART;TZID=Europe/Paris:20250405T190000
DTEND;TZID=Europe/Paris:20250405T203000
DTSTAMP:20260425T163837
CREATED:20250305T162459Z
LAST-MODIFIED:20250317T175526Z
UID:10102-1743879600-1743885000@casinodevic.cat
SUMMARY:Concert de Maria Castell. Presenta 'Solstici'
DESCRIPTION:Compreu aquí les vostres entrades \nMaria Castell: Veu i guitarra\n\nEnric Vilageliu: Visuals\n\nMaria Castell\, cantautora de Granollers\, visitarà el Casino de Vic amb una proposta immersiva i atrevida. La sala modernista del Casino acollirà l’actuació en directe del disc “Solstici” (2024) amb veu i guitarra\, en un ambient amb un suport visual suggerent\, dirigit per Enric Vilageliu\, que ens transportarà al sentiment de llibertat i vitalitat que encomana el seu últim disc.\nEl nou àlbum Solstici vol reivindicar la necessitat de regenerar el món. Les cançons volen homenatjar a les dones\, i busquen un so rítmic\, per impulsar les lletres amb força. Per preservar els quatre elements d’una Terra\, que dona vida\, i arrela amb llengua i tradició\, la seva música vol colpir però també encoratjar.\nEntrada general: 8 € | Entrada socis: 5 €\nCompreu aquí les vostres entrades
URL:https://casinodevic.cat/event/concert-de-maria-castell-presenta-solstici/
LOCATION:Carrer de Jacint Verdaguer\, 5\,\, Vic\, Barcelona\, 08500\, Spain
ATTACH;FMTTYPE=image/jpeg:https://casinodevic.cat/wp-content/uploads/2025/03/concert-maria-castell-2-min.jpg
END:VEVENT
END:VCALENDAR