BEGIN:VCALENDAR
VERSION:2.0
PRODID:-//Casino de Vic - ECPv6.0.8//NONSGML v1.0//EN
CALSCALE:GREGORIAN
METHOD:PUBLISH
X-WR-CALNAME:Casino de Vic
X-ORIGINAL-URL:https://casinodevic.cat
X-WR-CALDESC:Esdeveniments per Casino de Vic
REFRESH-INTERVAL;VALUE=DURATION:PT1H
X-Robots-Tag:noindex
X-PUBLISHED-TTL:PT1H
BEGIN:VTIMEZONE
TZID:Europe/Paris
BEGIN:DAYLIGHT
TZOFFSETFROM:+0100
TZOFFSETTO:+0200
TZNAME:CEST
DTSTART:20250330T010000
END:DAYLIGHT
BEGIN:STANDARD
TZOFFSETFROM:+0200
TZOFFSETTO:+0100
TZNAME:CET
DTSTART:20251026T010000
END:STANDARD
END:VTIMEZONE
BEGIN:VEVENT
DTSTART;TZID=Europe/Paris:20250218T190000
DTEND;TZID=Europe/Paris:20250218T200000
DTSTAMP:20260420T083201
CREATED:20250129T190313Z
LAST-MODIFIED:20250206T164529Z
UID:10047-1739905200-1739908800@casinodevic.cat
SUMMARY:Presentació del llibre "Ara soc jo qui mana"\, de Josep Freixas
DESCRIPTION:L’autor conversant amb la periodista Laia Miralpeix. \nA les 19 h a la Sala Modernista.
URL:https://casinodevic.cat/event/presentacio-del-llibre-ara-qui-mana-soc-jo-de-josep-freixas/
LOCATION:Carrer de Jacint Verdaguer\, 5\,\, Vic\, Barcelona\, 08500\, Spain
ATTACH;FMTTYPE=image/jpeg:https://casinodevic.cat/wp-content/uploads/2025/01/digital-Casino-.jpg
END:VEVENT
END:VCALENDAR