BEGIN:VCALENDAR
VERSION:2.0
PRODID:-//Casino de Vic - ECPv6.0.8//NONSGML v1.0//EN
CALSCALE:GREGORIAN
METHOD:PUBLISH
X-ORIGINAL-URL:https://casinodevic.cat
X-WR-CALDESC:Esdeveniments per Casino de Vic
REFRESH-INTERVAL;VALUE=DURATION:PT1H
X-Robots-Tag:noindex
X-PUBLISHED-TTL:PT1H
BEGIN:VTIMEZONE
TZID:Europe/Paris
BEGIN:DAYLIGHT
TZOFFSETFROM:+0100
TZOFFSETTO:+0200
TZNAME:CEST
DTSTART:20240331T010000
END:DAYLIGHT
BEGIN:STANDARD
TZOFFSETFROM:+0200
TZOFFSETTO:+0100
TZNAME:CET
DTSTART:20241027T010000
END:STANDARD
END:VTIMEZONE
BEGIN:VEVENT
DTSTART;TZID=Europe/Paris:20240204T180000
DTEND;TZID=Europe/Paris:20240204T180000
DTSTAMP:20260425T180310
CREATED:20231221T073220Z
LAST-MODIFIED:20231221T073220Z
UID:9444-1707069600-1707069600@casinodevic.cat
SUMMARY:CATALUNYA + Q 1 CLUB
DESCRIPTION:CATALUNYA + Q 1 CLUB \nHISTÒRIA\, POEMES I ROMANÇOS. TOT PER LA PÀTRIA \nUn acte subversiu\, contrasistema i compromès. En un futur distòpic\, en el qual Catalunya i l’idioma català han desaparegut. Dos activistes i investigadors culturals\, antropòlegs i costumistes\, reuneixen un grup de gent (el públic) per tal de fer un acte de pedagogia militant per a la recuperació de part del patrimoni cultural català i de la seva història perduda. D’una manera molt irònica i disbauxada es fa un repàs\, segons les seves investigacions\, de la història de Catalunya i aporta una nova visió de l’antologia de la poesia patriòtica catalana de tots els temps. \nIntèrprets: Pep Simon és Joseph Simon & Pep Tines és Joe Tines (historian & anthropologist & viceversa) \nText: Pep Tines \nDirecció: Cacu Prat \nConcepte de vestuari: M. Àngels Pladevall \nIl·lustracions i disseny gràfic: Blai Marginedas \nProducció executiva: Maribel Picapiedra \nÉs una producció de: teatre eSseLa \nOrganitza: Casino de Vic \n  \nDissabte 3 de febrer. 19.30 h. \nDiumenge 4 de febrer. 18 h. \n12€ entrada general / 8 € socis del Casino. Venda d’entrades aquí \n  \nATENCIÓ: Per raons de seguretat i de discreció es farà servir una entrada secreta\, al Carrer Sant Josep\, 2\, de Vic.\nSi us plau\, sigueu prudents i discrets. Si us sembla que sou vigilats o que us segueixen\, feu l’orni. Cal prendre les màximes precaucions en aquests temps d’incertesa i subjugació.\nSant i senya per accedir: SOM I SEREM\nUs preguem que feu saber aquestes instruccions a qui us hi acompanyi.\n 
URL:https://casinodevic.cat/event/catalunya-q-1-club/2024-02-04/
LOCATION:Carrer de Jacint Verdaguer\, 5\,\, Vic\, Barcelona\, 08500\, Spain
ATTACH;FMTTYPE=image/png:https://casinodevic.cat/wp-content/uploads/2023/12/CatalunaQ1-A3-2.png
END:VEVENT
BEGIN:VEVENT
DTSTART;TZID=Europe/Paris:20240203T193000
DTEND;TZID=Europe/Paris:20240203T193000
DTSTAMP:20260425T180310
CREATED:20231221T073220Z
LAST-MODIFIED:20231221T073220Z
UID:9441-1706988600-1706988600@casinodevic.cat
SUMMARY:CATALUNYA + Q 1 CLUB
DESCRIPTION:CATALUNYA + Q 1 CLUB \nHISTÒRIA\, POEMES I ROMANÇOS. TOT PER LA PÀTRIA \nUn acte subversiu\, contrasistema i compromès. En un futur distòpic\, en el qual Catalunya i l’idioma català han desaparegut. Dos activistes i investigadors culturals\, antropòlegs i costumistes\, reuneixen un grup de gent (el públic) per tal de fer un acte de pedagogia militant per a la recuperació de part del patrimoni cultural català i de la seva història perduda. D’una manera molt irònica i disbauxada es fa un repàs\, segons les seves investigacions\, de la història de Catalunya i aporta una nova visió de l’antologia de la poesia patriòtica catalana de tots els temps. \nIntèrprets: Pep Simon és Joseph Simon & Pep Tines és Joe Tines (historian & anthropologist & viceversa) \nText: Pep Tines \nDirecció: Cacu Prat \nConcepte de vestuari: M. Àngels Pladevall \nIl·lustracions i disseny gràfic: Blai Marginedas \nProducció executiva: Maribel Picapiedra \nÉs una producció de: teatre eSseLa \nOrganitza: Casino de Vic \n  \nDissabte 3 de febrer. 19.30 h. \nDiumenge 4 de febrer. 18 h. \n12€ entrada general / 8 € socis del Casino. Venda d’entrades aquí \n  \nATENCIÓ: Per raons de seguretat i de discreció es farà servir una entrada secreta\, al Carrer Sant Josep\, 2\, de Vic.\nSi us plau\, sigueu prudents i discrets. Si us sembla que sou vigilats o que us segueixen\, feu l’orni. Cal prendre les màximes precaucions en aquests temps d’incertesa i subjugació.\nSant i senya per accedir: SOM I SEREM\nUs preguem que feu saber aquestes instruccions a qui us hi acompanyi.\n 
URL:https://casinodevic.cat/event/catalunya-q-1-club/2024-02-03/
LOCATION:Carrer de Jacint Verdaguer\, 5\,\, Vic\, Barcelona\, 08500\, Spain
ATTACH;FMTTYPE=image/png:https://casinodevic.cat/wp-content/uploads/2023/12/CatalunaQ1-A3-2.png
END:VEVENT
END:VCALENDAR